BEGIN:VCALENDAR
VERSION:2.0
CALSCALE:GREGORIAN
PRODID:adamgibbons/ics
METHOD:PUBLISH
X-PUBLISHED-TTL:PT1H
BEGIN:VEVENT
UID:160@bootblack.events
SUMMARY:Bootblack stand at Navegantish
DTSTAMP:20260424T180500Z
DTSTART:20260418T140000Z
DTEND:20260418T170000Z
URL:https://bootblack.events/event/bootblack-stand-at-navegantish
LOCATION:Armazém Regimental\, Lagos - Armazém Regimental\, Lagos
STATUS:CONFIRMED
CATEGORIES:Bootblack Stand,Portugal
BEGIN:VALARM
ACTION:DISPLAY
DESCRIPTION:Bootblack stand at Navegantish
TRIGGER:-PT1H
END:VALARM
END:VEVENT
END:VCALENDAR
