BEGIN:VCALENDAR
VERSION:2.0
CALSCALE:GREGORIAN
PRODID:adamgibbons/ics
METHOD:PUBLISH
X-PUBLISHED-TTL:PT1H
BEGIN:VEVENT
UID:68@bootblack.events
SUMMARY:Bootblacking @ Winterization
DTSTAMP:20260424T203832Z
DTSTART:20250215T180000Z
DTEND:20250216T020000Z
DESCRIPTION:Bootblack Markus be at Winterization 2025 to shine and polish u
	p your gear! So\,\nbring in your grimiest and dustiest gear and he'll make
	 it sparkle and shine\nonce more! As always\, tips are appreciated.\n\nhtt
	ps://fb.me/e/5mbmKxDgz [https://fb.me/e/5mbmKxDgz]
URL:https://bootblack.events/event/bootblacking-winterization
LOCATION:ClubX - Mäkelänkatu 54a 203\, Helsinki
STATUS:CONFIRMED
CATEGORIES:Bootblack Stand,Finland,Helsinki
X-ALT-DESC;FMTTYPE=text/html:<p>Bootblack Markus be at Winterization 2025 t
	o shine and polish up your gear! So, bring in your grimiest and dustiest g
	ear and he'll make it sparkle and shine once more! As always, tips are app
	reciated.</p><p><a target="_blank" href="https://fb.me/e/5mbmKxDgz">https:
	//fb.me/e/5mbmKxDgz</a></p>
END:VEVENT
BEGIN:VEVENT
UID:22@bootblack.events
SUMMARY:Bootblack Stand @Finlandization 38
DTSTAMP:20260424T203832Z
DTSTART:20240824T190000Z
DESCRIPTION:More information about the event: https://mscfin.fi/en/ [https:
	//mscfin.fi/en/]
URL:https://bootblack.events/event/bootblack-stand-finlandization-38
LOCATION:ClubX - Mäkelänkatu 54a 203\, Helsinki
STATUS:CONFIRMED
CATEGORIES:Bootblack Stand,Finland,Helsinki
X-ALT-DESC;FMTTYPE=text/html:<p>More information about the event: <a target
	="_blank" href="https://mscfin.fi/en/">https://mscfin.fi/en/</a></p>
END:VEVENT
END:VCALENDAR
