BEGIN:VCALENDAR
VERSION:2.0
CALSCALE:GREGORIAN
PRODID:adamgibbons/ics
METHOD:PUBLISH
X-PUBLISHED-TTL:PT1H
BEGIN:VEVENT
UID:133@bootblack.events
SUMMARY:Let it shine - bootblacking Amsterdam Leather Pride
DTSTAMP:20260424T165126Z
DTSTART:20251018T140000Z
DTEND:20251018T180000Z
DESCRIPTION:Bootblack stand and social
URL:https://bootblack.events/event/let-it-shine-bootblacking-amsterdam-leat
	her-pride-1
LOCATION:The Queen's Head - Zeedijk 20\, 1012 AZ Amsterdam\, Niederlande
STATUS:CONFIRMED
CATEGORIES:Amsterdam,Social,Netherlands,Bootblack Stand
X-ALT-DESC;FMTTYPE=text/html:<p>Bootblack stand and social</p>
END:VEVENT
BEGIN:VEVENT
UID:132@bootblack.events
SUMMARY:Let it shine - bootblacking Amsterdam Leather Pride
DTSTAMP:20260424T165126Z
DTSTART:20251017T140000Z
DTEND:20251017T180000Z
DESCRIPTION:Bootblack stand and social
URL:https://bootblack.events/event/let-it-shine-bootblacking-amsterdam-leat
	her-pride
LOCATION:The Queen's Head - Zeedijk 20\, 1012 AZ Amsterdam\, Niederlande
STATUS:CONFIRMED
CATEGORIES:Bootblack Stand,Amsterdam,Netherlands,Social
X-ALT-DESC;FMTTYPE=text/html:<p>Bootblack stand and social</p>
END:VEVENT
BEGIN:VEVENT
UID:110@bootblack.events
SUMMARY:Bootblacking @ 20 years XXX Leather
DTSTAMP:20260424T165126Z
DTSTART:20250524T180000Z
DESCRIPTION:More info: https://fb.me/e/3aDFECmY7 [https://fb.me/e/3aDFECmY7
	]
URL:https://bootblack.events/event/bootblacking-20-years-xxx-leather
GEO:52.3746491;4.897024
LOCATION:Eagle Amsterdam - Warmoesstraat 90\, 1012 JH Amsterdam\, Netherlan
	ds
STATUS:CONFIRMED
CATEGORIES:Bootblack Stand,Netherlands,Amsterdam
X-ALT-DESC;FMTTYPE=text/html:<p>More info: <a target="_blank" href="https:/
	/fb.me/e/3aDFECmY7">https://fb.me/e/3aDFECmY7</a></p>
END:VEVENT
BEGIN:VEVENT
UID:97@bootblack.events
SUMMARY:Bootblacking @ BLUF Social
DTSTAMP:20260424T165126Z
DTSTART:20250427T150000Z
DESCRIPTION:Bootblack stand at the monthly BLUF Sunday Social held at the W
	eb bar. Starting\nat 5 PM.\n\nMore info: https://thewebamsterdam.nl/theweb
	english.php\n[https://thewebamsterdam.nl/thewebenglish.php]
URL:https://bootblack.events/event/bootblacking-bluf-social
GEO:52.3765096;4.8957377
LOCATION:The Web Amsterdam - Sint Jacobsstraat 6\, 1012 NC Amsterdam
STATUS:CONFIRMED
CATEGORIES:Amsterdam,Netherlands,Bootblack Stand
X-ALT-DESC;FMTTYPE=text/html:<p>Bootblack stand at the monthly BLUF Sunday 
	Social held at the Web bar. Starting at 5 PM.</p><p>More info: <a target="
	_blank" href="https://thewebamsterdam.nl/thewebenglish.php">https://theweb
	amsterdam.nl/thewebenglish.php</a></p>
END:VEVENT
BEGIN:VEVENT
UID:75@bootblack.events
SUMMARY:Bootblacking @ The Rubber Bunch
DTSTAMP:20260424T165126Z
DTSTART:20250322T190000Z
DESCRIPTION:Bootblack Stand at the Rubber Bunch party. More info:\nhttps://
	en.rubberbunch.com/ [https://en.rubberbunch.com/]
URL:https://bootblack.events/event/bootblacking-the-rubber-bunch
GEO:52.3761474;4.8940784
LOCATION:Club Akhnaton Amsterdam - Nieuwezijds Kolk 25\, 1012 PV Amsterdam\
	, Niederlande
STATUS:CONFIRMED
CATEGORIES:Bootblack Stand,Amsterdam,Netherlands
X-ALT-DESC;FMTTYPE=text/html:<p>Bootblack Stand at the Rubber Bunch party. 
	More info: <a target="_blank" href="https://en.rubberbunch.com/">https://e
	n.rubberbunch.com/</a></p>
END:VEVENT
BEGIN:VEVENT
UID:3@bootblack.events
SUMMARY:Take a Stand Amsterdam
DTSTAMP:20260424T165126Z
DTSTART:20241101T180000Z
DTEND:20241103T010000Z
DESCRIPTION:Link to the event: https://takeastandwebsite.wordpress.com/\n[h
	ttps://takeastandwebsite.wordpress.com/]\n\nApplication form for bootblack
	s:\nhttps://docs.google.com/forms/d/e/1FAIpQLSca-jhwmcSh3iieSWHS_3GfkfVuee
	ypyOrdlWpGm2Oh61WHTw/viewform\n[https://docs.google.com/forms/d/e/1FAIpQLS
	ca-jhwmcSh3iieSWHS_3GfkfVueeypyOrdlWpGm2Oh61WHTw/viewform]\n\nWhat is Take
	 A Stand? It is a day time bootblacking lounge. There is no contest\,\nthe
	re are no breakout classes. Only bunch of Bootblacks and everything you ne
	ed\nto go with them. Stands\, coat check\, cocktails\, music and a stage.\
	n\nBring ALL your Leather gear. If it’s more than you can wear at one time
	\, that’s\nokay\, that’s why we have coat check. Pick a Bootblack and sit 
	at their stand to\nget shined up. You can go back to coat check and change
	 outfits as many times as\nyou want\, we would love to see all your outfit
	s. You can grab a drink from the\nbar whenever you feel parched and be wit
	h Leather folk while wait for an open\nstand. Remember to always tip your 
	Bootblack and your bar tender.\n\nAt the end of the day there will be a sh
	ow on stage to introduce and hear from\neach of our Bootblacks who were wo
	rking the stands. Several of them will display\nsexy scenes on stage. We’l
	l do some fundraising for charity from the stage as\nwell.
URL:https://bootblack.events/event/take-a-stand-amsterdam
GEO:52.3765096;4.8957377
LOCATION:The Web Amsterdam - Sint Jacobsstraat 6\, 1012 NC Amsterdam
STATUS:CONFIRMED
CATEGORIES:Amsterdam,Bootblack Stand,Netherlands
X-ALT-DESC;FMTTYPE=text/html:<p>Link to the event: <a target="_blank" href=
	"https://takeastandwebsite.wordpress.com/">https://takeastandwebsite.wordp
	ress.com/</a></p><p>Application form for bootblacks: <a target="_blank" hr
	ef="https://docs.google.com/forms/d/e/1FAIpQLSca-jhwmcSh3iieSWHS_3GfkfVuee
	ypyOrdlWpGm2Oh61WHTw/viewform">https://docs.google.com/forms/d/e/1FAIpQLSc
	a-jhwmcSh3iieSWHS_3GfkfVueeypyOrdlWpGm2Oh61WHTw/viewform</a></p><p>What is
	 Take A Stand? It is a day time bootblacking lounge. There is no contest, 
	there are no breakout classes. Only bunch of Bootblacks and everything you
	 need to go with them. Stands, coat check, cocktails, music and a stage.</
	p><p>Bring ALL your Leather gear. If it’s more than you can wear at one ti
	me, that’s okay, that’s why we have coat check. Pick a Bootblack and sit a
	t their stand to get shined up. You can go back to coat check and change o
	utfits as many times as you want, we would love to see all your outfits. Y
	ou can grab a drink from the bar whenever you feel parched and be with Lea
	ther folk while wait for an open stand. Remember to always tip your Bootbl
	ack and your bar tender.</p><p>At the end of the day there will be a show 
	on stage to introduce and hear from each of our Bootblacks who were workin
	g the stands. Several of them will display sexy scenes on stage. We’ll do 
	some fundraising for charity from the stage as well.</p>
END:VEVENT
END:VCALENDAR
