BEGIN:VCALENDAR
VERSION:2.0
CALSCALE:GREGORIAN
PRODID:adamgibbons/ics
METHOD:PUBLISH
X-PUBLISHED-TTL:PT1H
BEGIN:VEVENT
UID:89@bootblack.events
SUMMARY:Bootblack Munch @ Birmingham Bizarre Bazaar
DTSTAMP:20260424T165126Z
DTSTART:20250817T100000Z
DESCRIPTION:More info: https://www.thebbb.co.uk/ [https://www.thebbb.co.uk/
	]
URL:https://bootblack.events/event/bootblack-munch-birmingham-bizarre-bazaa
	r-4
GEO:52.4724215;-1.8962825
LOCATION:Birmingham Bizarre Bazaar - Nightingale Club\, 18 Kent St\, Birmin
	gham B5 6RD
STATUS:CONFIRMED
CATEGORIES:Birmingham,Munch,UK
X-ALT-DESC;FMTTYPE=text/html:<p>More info: <a target="_blank" href="https:/
	/www.thebbb.co.uk/">https://www.thebbb.co.uk/</a></p>
END:VEVENT
BEGIN:VEVENT
UID:88@bootblack.events
SUMMARY:Bootblack Munch @ Birmingham Bizarre Bazaar
DTSTAMP:20260424T165126Z
DTSTART:20250720T100000Z
DESCRIPTION:More info: https://www.thebbb.co.uk/ [https://www.thebbb.co.uk/
	]
URL:https://bootblack.events/event/bootblack-munch-birmingham-bizarre-bazaa
	r-3
GEO:52.4724215;-1.8962825
LOCATION:Birmingham Bizarre Bazaar - Nightingale Club\, 18 Kent St\, Birmin
	gham B5 6RD
STATUS:CONFIRMED
CATEGORIES:UK,Munch,Birmingham
X-ALT-DESC;FMTTYPE=text/html:<p>More info: <a href="https://www.thebbb.co.u
	k/" target="_blank">https://www.thebbb.co.uk/</a></p>
END:VEVENT
BEGIN:VEVENT
UID:87@bootblack.events
SUMMARY:Bootblack Munch @ Birmingham Bizarre Bazaar
DTSTAMP:20260424T165126Z
DTSTART:20250622T100000Z
DESCRIPTION:More info: https://www.thebbb.co.uk/ [https://www.thebbb.co.uk/
	]
URL:https://bootblack.events/event/bootblack-munch-birmingham-bizarre-bazaa
	r-2
GEO:52.4724215;-1.8962825
LOCATION:Birmingham Bizarre Bazaar - Nightingale Club\, 18 Kent St\, Birmin
	gham B5 6RD
STATUS:CONFIRMED
CATEGORIES:Birmingham,Munch,UK
X-ALT-DESC;FMTTYPE=text/html:<p>More info: <a target="_blank" href="https:/
	/www.thebbb.co.uk/">https://www.thebbb.co.uk/</a></p>
END:VEVENT
BEGIN:VEVENT
UID:86@bootblack.events
SUMMARY:Bootblack Munch @ Birmingham Bizarre Bazaar
DTSTAMP:20260424T165126Z
DTSTART:20250518T100000Z
DESCRIPTION:More info: https://www.thebbb.co.uk/ [https://www.thebbb.co.uk/
	]
URL:https://bootblack.events/event/bootblack-munch-birmingham-bizarre-bazaa
	r-1
GEO:52.4724215;-1.8962825
LOCATION:Birmingham Bizarre Bazaar - Nightingale Club\, 18 Kent St\, Birmin
	gham B5 6RD
STATUS:CONFIRMED
CATEGORIES:Birmingham,Munch,UK
X-ALT-DESC;FMTTYPE=text/html:<p>More info: <a href="https://www.thebbb.co.u
	k/" target="_blank">https://www.thebbb.co.uk/</a></p>
END:VEVENT
BEGIN:VEVENT
UID:85@bootblack.events
SUMMARY:Bootblack Munch @ Birmingham Bizarre Bazaar
DTSTAMP:20260424T165126Z
DTSTART:20250413T100000Z
DESCRIPTION:More info: https://www.thebbb.co.uk/ [https://www.thebbb.co.uk/
	]
URL:https://bootblack.events/event/bootblack-munch-birmingham-bizarre-bazaa
	r
GEO:52.4724215;-1.8962825
LOCATION:Birmingham Bizarre Bazaar - Nightingale Club\, 18 Kent St\, Birmin
	gham B5 6RD
STATUS:CONFIRMED
CATEGORIES:Birmingham,Munch,UK
X-ALT-DESC;FMTTYPE=text/html:<p>More info: <a target="_blank" href="https:/
	/www.thebbb.co.uk/">https://www.thebbb.co.uk/</a></p>
END:VEVENT
BEGIN:VEVENT
UID:67@bootblack.events
SUMMARY:Bootblack Munch Birmingham
DTSTAMP:20260424T165126Z
DTSTART:20250216T110000Z
DESCRIPTION:https://www.thebbb.co.uk/ [https://www.thebbb.co.uk/]
URL:https://bootblack.events/event/bootblack-munch-birmingham
GEO:52.4724215;-1.8962825
LOCATION:Birmingham Bizarre Bazaar - Nightingale Club\, 18 Kent St\, Birmin
	gham B5 6RD
STATUS:CONFIRMED
CATEGORIES:Munch,Birmingham,UK
X-ALT-DESC;FMTTYPE=text/html:<p><a target="_blank" href="https://www.thebbb
	.co.uk/">https://www.thebbb.co.uk/</a></p>
END:VEVENT
BEGIN:VEVENT
UID:52@bootblack.events
SUMMARY:Heart of England Leather Social
DTSTAMP:20260424T165126Z
DTSTART:20241221T193000Z
DTEND:20241221T223000Z
DESCRIPTION:The Heart of England Leather Social - Christmas edition!
URL:https://bootblack.events/event/heart-of-england-leather-social
LOCATION:The Fountain Inn - Bar and Letting Rooms - 102 Wrentham Street\, B
	irmingham B5 6QL
STATUS:CONFIRMED
CATEGORIES:UK,Birmingham
X-ALT-DESC;FMTTYPE=text/html:<p>The Heart of England Leather Social - Chris
	tmas edition!</p>
END:VEVENT
BEGIN:VEVENT
UID:46@bootblack.events
SUMMARY:Monthly Bootblack Munch
DTSTAMP:20260424T165126Z
DTSTART:20241215T110000Z
DESCRIPTION:Bootblack Munch hosted by Pine  & LeatherParker will be held on
	 the top floor. \n\nMore info about the event: https://www.thebbb.co.uk/ [
	https://www.thebbb.co.uk/]
URL:https://bootblack.events/event/monthly-bootblack-munch-2
GEO:52.4724215;-1.8962825
LOCATION:Birmingham Bizarre Bazaar - Nightingale Club\, 18 Kent St\, Birmin
	gham B5 6RD
STATUS:CONFIRMED
CATEGORIES:Birmingham,UK,Munch
X-ALT-DESC;FMTTYPE=text/html:<p>Bootblack Munch hosted by <em>Pine</em>&nbs
	p; &amp; LeatherParker will be held on the top floor.&nbsp;</p><p>More inf
	o about the event: <a target="_blank" href="https://www.thebbb.co.uk/">htt
	ps://www.thebbb.co.uk/</a></p>
END:VEVENT
BEGIN:VEVENT
UID:16@bootblack.events
SUMMARY:Monthly Bootblack Munch
DTSTAMP:20260424T165126Z
DTSTART:20241020T100000Z
DTEND:20241020T120000Z
DESCRIPTION:Munch: Come along every month at the BBB to learn how to bootbl
	ack\, skill share\nand enjoy bootblack camraderie. Co-hosted by Pine & Par
	ker.
URL:https://bootblack.events/event/monthly-bootblack-munch
GEO:52.4724215;-1.8962825
LOCATION:Birmingham Bizarre Bazaar - Nightingale Club\, 18 Kent St\, Birmin
	gham B5 6RD
STATUS:CONFIRMED
CATEGORIES:Munch,UK,Birmingham
X-ALT-DESC;FMTTYPE=text/html:<p>Munch: Come along every month at the BBB to
	 learn how to bootblack, skill share and enjoy bootblack camraderie. Co-ho
	sted by Pine &amp; Parker.</p>
END:VEVENT
BEGIN:VEVENT
UID:23@bootblack.events
SUMMARY:Monthly Bootblack Munch
DTSTAMP:20260424T165126Z
DTSTART:20240915T100000Z
DESCRIPTION:More info about the event: https://www.instagram.com/p/C_IH_IAN
	onf/\n[https://www.instagram.com/p/C_IH_IANonf/]
URL:https://bootblack.events/event/monthly-bootblack-munch-1
GEO:52.4724215;-1.8962825
LOCATION:Birmingham Bizarre Bazaar - Nightingale Club\, 18 Kent St\, Birmin
	gham B5 6RD
STATUS:CONFIRMED
CATEGORIES:Birmingham,UK,Munch
X-ALT-DESC;FMTTYPE=text/html:<p>More info about the event: <a target="_blan
	k" href="https://www.instagram.com/p/C_IH_IANonf/">https://www.instagram.c
	om/p/C_IH_IANonf/</a></p>
END:VEVENT
BEGIN:VEVENT
UID:11@bootblack.events
SUMMARY:“Make them feel it”: Seduction\, Service\, and Skill in Bootblackin
	g (workshop) plus Bootblack Munch (12-2pm) and stand
DTSTAMP:20260424T165126Z
DTSTART:20240818T100000Z
DTEND:20240818T143000Z
DESCRIPTION:Munch: Come along every month at the BBB to learn how to bootbl
	ack\, skill share\nand enjoy bootblack camraderie. Co-hosted by Pine & Par
	ker.\n\nWorkshop: In this workshop we will explore how to turn the simple 
	care of\nleather into an act that can be seductively erotic\, whether as a
	 Top or bottom.\nLearn the fundamental skills of giving a bar shine and ho
	w to inflect it with\naspects of play\, whether Dominance\, submission\, s
	adism\, masochism\, worship or\nhumiliation. Bootblacking can be so much m
	ore than you imagined! 45min demo with\na 15min practical taster. No need 
	to bring anything\, but ideally come wearing\nboots if you want to experie
	nce sitting for someone during the practical taster.\nPine will also be lo
	oking for someone to be his bunny / sit for him during the\ndemo!
URL:https://bootblack.events/event/make-them-feel-it-seduction-service-and-
	skill-in-bootblacking-workshop-plus-bootblack-munch-12-2pm-and-stand
GEO:52.4724215;-1.8962825
LOCATION:Birmingham Bizarre Bazaar - Nightingale Club\, 18 Kent St\, Birmin
	gham B5 6RD
STATUS:CONFIRMED
CATEGORIES:Munch,Workshop,UK,Birmingham
X-ALT-DESC;FMTTYPE=text/html:<p>Munch: Come along every month at the BBB to
	 learn how to bootblack, skill share and enjoy bootblack camraderie. Co-ho
	sted by Pine &amp; Parker.</p><p>Workshop: In this workshop we will explor
	e how to turn the simple care of leather into an act that can be seductive
	ly erotic, whether as a Top or bottom. Learn the fundamental skills of giv
	ing a bar shine and how to inflect it with aspects of play, whether Domina
	nce, submission, sadism, masochism, worship or humiliation. Bootblacking c
	an be so much more than you imagined! 45min demo with a 15min practical ta
	ster. No need to bring anything, but ideally come wearing boots if you wan
	t to experience sitting for someone during the practical taster. Pine will
	 also be looking for someone to be his bunny / sit for him during the demo
	!</p>
END:VEVENT
END:VCALENDAR
