BEGIN:VCALENDAR
VERSION:2.0
CALSCALE:GREGORIAN
PRODID:adamgibbons/ics
METHOD:PUBLISH
X-PUBLISHED-TTL:PT1H
BEGIN:VEVENT
UID:111@bootblack.events
SUMMARY:Take A Stand
DTSTAMP:20260424T164921Z
DTSTART:20250926T060000Z
DTEND:20250927T215900Z
DESCRIPTION:Take A Stand comes to Germany!\n\n * Friday 26 September: Meet 
	and Greet at Lucky’s 8pm\n\n * Saturday 27 September: Bootblacking lounge 
	at the Grande Opera Noon-5pm\n\nBring all your gear\, Leather or latex\, a
	nd have the Bootblacks shine it up as\nyou wear it and enjoy the atmospher
	e. Auctions and live demos on the stage. See\nfirst hand just how special 
	a Bootblack can make you feel. The event is free but\nremember to tip your
	 bar tender and your Bootblack. Open and welcome to all\nGenders\nStick ar
	ound for Approved\, the all male Fetish party. After you’ve spent all\naft
	ernoon getting hot and bothered in your gear\, for €20.00 you can indulge 
	your\nfantasies and find that release at the party hosted by FLC.\n\nRegis
	tration for bootblacks:\nhttps://docs.google.com/forms/d/e/1FAIpQLSfi0q6ZL
	iVASzK1kvsTIITIV_FXgJz2VQnBOJtiMs7zdseKgA/viewform\n[https://docs.google.c
	om/forms/d/e/1FAIpQLSfi0q6ZLiVASzK1kvsTIITIV_FXgJz2VQnBOJtiMs7zdseKgA/view
	form]\n\nMore info: https://takeastandwebsite.wordpress.com/\n[https://tak
	eastandwebsite.wordpress.com/]
URL:https://bootblack.events/event/take-a-stand
GEO:50.0979836;8.7644646
LOCATION:Grande Opera Offenbach - Christian-Pleß-Straße 11-13\, 63069 Offen
	bach am Main
STATUS:CONFIRMED
CATEGORIES:Offenbach,Germany,Bootblack Stand
X-ALT-DESC;FMTTYPE=text/html:<p>Take A Stand comes to Germany!</p><ul><li><
	p>Friday 26 September: Meet and Greet at Lucky’s 8pm</p></li><li><p>Saturd
	ay 27 September: Bootblacking lounge at the Grande Opera Noon-5pm</p></li>
	</ul><p>Bring all your gear, Leather or latex, and have the Bootblacks shi
	ne it up as you wear it and enjoy the atmosphere. Auctions and live demos 
	on the stage. See first hand just how special a Bootblack can make you fee
	l. The event is free but remember to tip your bar tender and your Bootblac
	k. Open and welcome to all Genders<br>Stick around for Approved, the all m
	ale Fetish party. After you’ve spent all afternoon getting hot and bothere
	d in your gear, for €20.00 you can indulge your fantasies and find that re
	lease at the party hosted by FLC.</p><p>Registration for bootblacks: <a ta
	rget="_blank" href="https://docs.google.com/forms/d/e/1FAIpQLSfi0q6ZLiVASz
	K1kvsTIITIV_FXgJz2VQnBOJtiMs7zdseKgA/viewform">https://docs.google.com/for
	ms/d/e/1FAIpQLSfi0q6ZLiVASzK1kvsTIITIV_FXgJz2VQnBOJtiMs7zdseKgA/viewform</
	a></p><p>More info: <a target="_blank" href="https://takeastandwebsite.wor
	dpress.com/">https://takeastandwebsite.wordpress.com/</a></p>
END:VEVENT
BEGIN:VEVENT
UID:60@bootblack.events
SUMMARY:Bootblacking @ Folsom Berlin
DTSTAMP:20260424T164921Z
DTSTART:20250827T170000Z
DTEND:20250831T215900Z
DESCRIPTION:The main attraction is of course Europe's biggest bootblack sta
	nd during the\nstreet fair on Saturday\, but we will be out and about at d
	ifferent events and\nlocations. More details to come!\n\nMore info: https:
	//folsomeurope.berlin/ [https://folsomeurope.berlin/]
URL:https://bootblack.events/event/bootblacking-folsom-berlin
GEO:52.498297;13.342207
LOCATION:Folsom Europe Berlin - Welserstraße 14-22\, 10777 Berlin
STATUS:CONFIRMED
CATEGORIES:Germany,Berlin,Bootblack Stand
X-ALT-DESC;FMTTYPE=text/html:<p>The main attraction is of course Europe's b
	iggest bootblack stand during the street fair on Saturday, but we will be 
	out and about at different events and locations. More details to come!</p>
	<p>More info: <a target="_blank" href="https://folsomeurope.berlin/">https
	://folsomeurope.berlin/</a></p>
END:VEVENT
BEGIN:VEVENT
UID:121@bootblack.events
SUMMARY:Bootblacking @ Tysk Berlin
DTSTAMP:20260424T164921Z
DTSTART:20250802T110000Z
DTEND:20250802T150000Z
DESCRIPTION:Shkody will be bootblacking at Tysk Berlin.
URL:https://bootblack.events/event/bootblacking-tysk-berlin
GEO:52.4944632;13.3498975
LOCATION:Tysk Berlin - Eisenacher Str. 101 10781 Berlin
STATUS:CONFIRMED
CATEGORIES:Germany,Berlin,Bootblack Stand
X-ALT-DESC;FMTTYPE=text/html:<p>Shkody will be bootblacking at Tysk Berlin.
	 </p>
END:VEVENT
BEGIN:VEVENT
UID:118@bootblack.events
SUMMARY:Bootblacking @ Black Weekend
DTSTAMP:20260424T164921Z
DTSTART:20250705T110000Z
DTEND:20250705T150000Z
DESCRIPTION:Shkody will be bootblacking during the Berlin Black Weekend at 
	Tysk Berlin.
URL:https://bootblack.events/event/bootblacking-black-weekend
GEO:52.4944632;13.3498975
LOCATION:Tysk Berlin - Eisenacher Str. 101 10781 Berlin
STATUS:CONFIRMED
CATEGORIES:Germany,Berlin,Bootblack Stand
X-ALT-DESC;FMTTYPE=text/html:<p>Shkody will be bootblacking during the Berl
	in Black Weekend at Tysk Berlin.</p>
END:VEVENT
BEGIN:VEVENT
UID:116@bootblack.events
SUMMARY:Bootblacking @ Munich Pride
DTSTAMP:20260424T164921Z
DTSTART:20250628T120000Z
DESCRIPTION:Bootblackkollektiv will be hosting a bootblack stand at the fet
	ish pride area of\nMunich Pride.
URL:https://bootblack.events/event/bootblacking-munich-pride
GEO:48.1427658;11.5763171
LOCATION:Odeonsplatz Munich - Odeonsplatz Munich
STATUS:CONFIRMED
CATEGORIES:Bootblack Stand,Germany,Munich
X-ALT-DESC;FMTTYPE=text/html:<p>Bootblackkollektiv will be hosting a bootbl
	ack stand at the fetish pride area of Munich Pride. </p>
END:VEVENT
BEGIN:VEVENT
UID:115@bootblack.events
SUMMARY:Bootblacking @ Leather Odyssey 2025
DTSTAMP:20260424T164921Z
DTSTART:20250614T120000Z
DTEND:20250614T200000Z
DESCRIPTION:Bootblacks will be at Leather Odyssey 2025\n\nFull timetable he
	re: https://www.flc-frankfurt.de/leather-odyssey-2025/\n[https://www.flc-f
	rankfurt.de/leather-odyssey-2025/]
URL:https://bootblack.events/event/bootblacking-leather-odyssey-2025
GEO:50.0979836;8.7644646
LOCATION:Grande Opera Offenbach - Christian-Pleß-Straße 11-13\, 63069 Offen
	bach am Main
STATUS:CONFIRMED
CATEGORIES:Bootblack Stand,Offenbach,Germany,Frankfurt
X-ALT-DESC;FMTTYPE=text/html:<p>Bootblacks will be at Leather Odyssey 2025 
	</p><p>Full timetable here: <a target="_blank" href="https://www.flc-frank
	furt.de/leather-odyssey-2025/">https://www.flc-frankfurt.de/leather-odysse
	y-2025/</a></p>
END:VEVENT
BEGIN:VEVENT
UID:62@bootblack.events
SUMMARY:Bootblacking @ Sub Rosa Dictum Boundcon Party
DTSTAMP:20260424T164921Z
DTSTART:20250524T200000Z
DESCRIPTION:More info: https://subrosadictum.de/kesselhaus-24-05-2025-muenc
	hen/\n[https://subrosadictum.de/kesselhaus-24-05-2025-muenchen/]
URL:https://bootblack.events/event/bootblacking-sub-rosa-dictum-boundcon-pa
	rty
GEO:48.1964526;11.6067923
LOCATION:Dampfdom Munich - Am Ausbesserungswerk 8\, 80939 München
STATUS:CONFIRMED
CATEGORIES:Munich,Germany,Bootblack Stand
X-ALT-DESC;FMTTYPE=text/html:<p>More info: <a href="https://subrosadictum.d
	e/kesselhaus-24-05-2025-muenchen/" target="_blank">https://subrosadictum.d
	e/kesselhaus-24-05-2025-muenchen/</a></p>
END:VEVENT
BEGIN:VEVENT
UID:7@bootblack.events
SUMMARY:Bootblack Stand @Boundcon Munich
DTSTAMP:20260424T164921Z
DTSTART:20250524T130000Z
DTEND:20250525T215900Z
DESCRIPTION:Save the Date for the annual bootblack stand of Bootblackkollek
	tiv\nSüddeutschland [https://www.wonderlink.de/@bootblackkollektiv] at Bou
	ndcon in\nMunich. More info about Boundcon: https://www.boundcon.com/de/vi
	sitors/info\n[https://www.boundcon.com/de/visitors/info]
URL:https://bootblack.events/event/bootblack-stand-boundcon-munich
GEO:48.1946864;11.607853500000001
LOCATION:Zenith - Zenithhalle München
STATUS:CONFIRMED
CATEGORIES:Munich,Germany,Bootblack Stand
X-ALT-DESC;FMTTYPE=text/html:<p>Save the Date for the annual bootblack stan
	d of <a target="_blank" href="https://www.wonderlink.de/@bootblackkollekti
	v">Bootblackkollektiv Süddeutschland</a> at Boundcon in Munich. More info 
	about Boundcon: <a target="_blank" href="https://www.boundcon.com/de/visit
	ors/info">https://www.boundcon.com/de/visitors/info</a></p>
END:VEVENT
BEGIN:VEVENT
UID:103@bootblack.events
SUMMARY:Bootblacking @ Maitreffen Stuttgart
DTSTAMP:20260424T164921Z
DTSTART:20250502T120000Z
DTEND:20250503T215900Z
DESCRIPTION:Bootblack stands by Bootblackkollektiv will be active on Friday
	 and Saturday\nduring Maitreffen: Kink & Culture Nachmittag and the Electi
	on on Friday\, and\nduring Kinkfactory XXL on Saturday.\n\nMore info: http
	s://www.lc-stuttgart.de/events/maitreffen/\n[https://www.lc-stuttgart.de/e
	vents/maitreffen/]
URL:https://bootblack.events/event/bootblacking-maitreffen-stuttgart
GEO:48.8084207;9.2236088
LOCATION:Kursaal Stuttgart - Königsplatz 1\, 70372 Stuttgart
STATUS:CONFIRMED
CATEGORIES:Stuttgart,Germany,Bootblack Stand
X-ALT-DESC;FMTTYPE=text/html:<p>Bootblack stands by Bootblackkollektiv will
	 be active on Friday and Saturday during Maitreffen: Kink &amp; Culture Na
	chmittag and the Election on Friday, and during Kinkfactory XXL on Saturda
	y.</p><p>More info: <a target="_blank" href="https://www.lc-stuttgart.de/e
	vents/maitreffen/">https://www.lc-stuttgart.de/events/maitreffen/</a></p>
END:VEVENT
BEGIN:VEVENT
UID:99@bootblack.events
SUMMARY:Bootblacking @ Approved
DTSTAMP:20260424T164921Z
DTSTART:20250426T190000Z
DESCRIPTION:Bootblack stand at FLC's Approved Party\n\nhttps://www.joyclub.
	de/event/1631241.approved_gay_only_offenbach.html\n[https://www.joyclub.de
	/event/1631241.approved_gay_only_offenbach.html]
URL:https://bootblack.events/event/bootblacking-approved-2
GEO:50.0979836;8.7644646
LOCATION:Grande Opera Offenbach - Christian-Pleß-Straße 11-13\, 63069 Offen
	bach am Main
STATUS:CONFIRMED
CATEGORIES:Germany,Offenbach,Bootblack Stand
X-ALT-DESC;FMTTYPE=text/html:<p>Bootblack stand at FLC's Approved Party</p>
	<p><a target="_blank" href="https://www.joyclub.de/event/1631241.approved_
	gay_only_offenbach.html">https://www.joyclub.de/event/1631241.approved_gay
	_only_offenbach.html</a></p>
END:VEVENT
BEGIN:VEVENT
UID:96@bootblack.events
SUMMARY:Bootblacking @ Easter Berlin Fetish Festival
DTSTAMP:20260424T164921Z
DTSTART:20250419T100000Z
DTEND:20250421T180000Z
DESCRIPTION:Bootblack Stand at the Easter Berlin Fetish Festival. More info
	 about the event:\nhttps://blf.de/easterberlin/easter-berlin-fetish-festiv
	al/\n[https://blf.de/easterberlin/easter-berlin-fetish-festival/]
URL:https://bootblack.events/event/bootblacking-easter-berlin-fetish-festiv
	al
GEO:52.4995972;13.3537297
LOCATION:Easter Berlin Fetish Festival - Nollendorfplatz\, Berlin
STATUS:CONFIRMED
CATEGORIES:Bootblack Stand,Berlin,Germany
X-ALT-DESC;FMTTYPE=text/html:<p>Bootblack Stand at the Easter Berlin Fetish
	 Festival. More info about the event: <a target="_blank" href="https://blf
	.de/easterberlin/easter-berlin-fetish-festival/">https://blf.de/easterberl
	in/easter-berlin-fetish-festival/</a></p>
END:VEVENT
BEGIN:VEVENT
UID:82@bootblack.events
SUMMARY:Bootblacking @ Starkbierfest München
DTSTAMP:20260424T164921Z
DTSTART:20250322T120000Z
DESCRIPTION:Bootblackkollektiv and Satyridium (Bootblack Europe 2025) will 
	be bootblacking\non Saturday at MLC's Starkbierfest in Munich:\n\n * 13-16
	h at the LFC Fetish Fleamarket at the Underground\, Machtlfinger Straße\n 
	  29\, München\n\n * from 16:30h at the Coronation of the Bavarian Mr. Fet
	ish at Oberanger\n   Theater\, Oberanger 38\, 80331 München\n\nMore info: 
	https://www.mlc-munich.de/web/partys-events/stark-bier-fest/\n[https://www
	.mlc-munich.de/web/partys-events/stark-bier-fest/]
URL:https://bootblack.events/event/bootblacking-starkbierfest-munchen
LOCATION:Underground Munich - Machtlfinger Straße 29\, München
STATUS:CONFIRMED
CATEGORIES:Germany,Bootblack Stand,Munich
X-ALT-DESC;FMTTYPE=text/html:<p>Bootblackkollektiv and Satyridium (Bootblac
	k Europe 2025) will be bootblacking on Saturday at MLC's Starkbierfest in 
	Munich: </p><ul><li><p>13-16h at the LFC Fetish Fleamarket at the Undergro
	und, Machtlfinger Straße 29, München</p></li><li><p>from 16:30h at the Cor
	onation of the Bavarian Mr. Fetish at Oberanger Theater, Oberanger 38, 803
	31 München</p></li></ul><p>More info: <a target="_blank" href="https://www
	.mlc-munich.de/web/partys-events/stark-bier-fest/">https://www.mlc-munich.
	de/web/partys-events/stark-bier-fest/</a></p>
END:VEVENT
BEGIN:VEVENT
UID:81@bootblack.events
SUMMARY:Bootblacking @ Leather Social Bielefeld
DTSTAMP:20260424T164921Z
DTSTART:20250315T190000Z
DESCRIPTION:More info about the event: https://www.instagram.com/leathersoc
	ial_bielefeld/\n[https://www.instagram.com/leathersocial_bielefeld/]
URL:https://bootblack.events/event/bootblacking-leather-social-bielefeld
GEO:52.023148250000006;8.538394746283451
LOCATION:Muttis Bierstube Bielefeld - Friedrich-Verleger-Straße 20\, 33602 
	Bielefeld
STATUS:CONFIRMED
CATEGORIES:Bootblack Stand,Bielefeld,Germany
X-ALT-DESC;FMTTYPE=text/html:<p>More info about the event: <a target="_blan
	k" href="https://www.instagram.com/leathersocial_bielefeld/">https://www.i
	nstagram.com/leathersocial_bielefeld/</a></p>
END:VEVENT
BEGIN:VEVENT
UID:57@bootblack.events
SUMMARY:Bootblacking @ Approved
DTSTAMP:20260424T164921Z
DTSTART:20250125T200000Z
DESCRIPTION:Booblack stand at the APPROVED party of the Frankfurt Lederclub
	.\n\nMore info about the event:\n\nhttps://www.joyclub.de/event/1630336.ap
	proved_gay_only_offenbach.html\n[https://www.joyclub.de/event/1630336.appr
	oved_gay_only_offenbach.html]\n\nhttps://www.flc-frankfurt.de/approved/ [h
	ttps://www.flc-frankfurt.de/approved/]
URL:https://bootblack.events/event/bootblacking-approved-1
GEO:50.0979836;8.7644646
LOCATION:Grande Opera Offenbach - Christian-Pleß-Straße 11-13\, 63069 Offen
	bach am Main
STATUS:CONFIRMED
CATEGORIES:Germany,Bootblack Stand,Offenbach
X-ALT-DESC;FMTTYPE=text/html:<p>Booblack stand at the APPROVED party of the
	 Frankfurt Lederclub. </p><p>More info about the event: </p><p><a target="
	_blank" href="https://www.joyclub.de/event/1630336.approved_gay_only_offen
	bach.html">https://www.joyclub.de/event/1630336.approved_gay_only_offenbac
	h.html</a></p><p><a target="_blank" href="https://www.flc-frankfurt.de/app
	roved/">https://www.flc-frankfurt.de/approved/</a></p>
END:VEVENT
BEGIN:VEVENT
UID:61@bootblack.events
SUMMARY:Bootblacking @ Kohlfahrt 2025
DTSTAMP:20260424T164921Z
DTSTART:20250124T180000Z
DTEND:20250126T225900Z
DESCRIPTION:More info: https://www.lcnw.de/kohlfahrt-2025.html\n[https://ww
	w.lcnw.de/kohlfahrt-2025.html]
URL:https://bootblack.events/event/bootblacking-kohlfahrt-2025
GEO:53.0557221;8.811260120496529
LOCATION:Zone 283 Bremen - Kornstraße 283\, 28201 Bremen
STATUS:CONFIRMED
CATEGORIES:Germany,Bootblack Stand,Bremen
X-ALT-DESC;FMTTYPE=text/html:<p>More info: <a target="_blank" href="https:/
	/www.lcnw.de/kohlfahrt-2025.html">https://www.lcnw.de/kohlfahrt-2025.html<
	/a></p>
END:VEVENT
BEGIN:VEVENT
UID:45@bootblack.events
SUMMARY:Bootblacking @Rendezvous Burlesque X-Mas
DTSTAMP:20260424T164921Z
DTSTART:20241207T200000Z
DESCRIPTION:More info about the event:\nhttps://www.joyclub.de/event/149323
	4.rendezvous_burlesque_x_mas_grande_opera_offenbach.html\n[https://www.joy
	club.de/event/1493234.rendezvous_burlesque_x_mas_grande_opera_offenbach.ht
	ml]
URL:https://bootblack.events/event/bootblacking-rendezvous-burlesque-x-mas
GEO:50.0979836;8.7644646
LOCATION:Grande Opera Offenbach - Christian-Pleß-Straße 11-13\, 63069 Offen
	bach am Main
STATUS:CONFIRMED
CATEGORIES:Bootblack Stand,Germany,Offenbach
X-ALT-DESC;FMTTYPE=text/html:<p>More info about the event: <a target="_blan
	k" href="https://www.joyclub.de/event/1493234.rendezvous_burlesque_x_mas_g
	rande_opera_offenbach.html">https://www.joyclub.de/event/1493234.rendezvou
	s_burlesque_x_mas_grande_opera_offenbach.html</a></p>
END:VEVENT
BEGIN:VEVENT
UID:44@bootblack.events
SUMMARY:Bootblacking @ Approved
DTSTAMP:20260424T164921Z
DTSTART:20241123T200000Z
DESCRIPTION:More info about the event:\nhttps://www.joyclub.de/event/149376
	2.approved_gay_only_offenbach.html\n[https://www.joyclub.de/event/1493762.
	approved_gay_only_offenbach.html]
URL:https://bootblack.events/event/bootblacking-approved
GEO:50.0979836;8.7644646
LOCATION:Grande Opera Offenbach - Christian-Pleß-Straße 11-13\, 63069 Offen
	bach am Main
STATUS:CONFIRMED
CATEGORIES:Bootblack Stand,Offenbach,Germany
X-ALT-DESC;FMTTYPE=text/html:<p>More info about the event: <a target="_blan
	k" href="https://www.joyclub.de/event/1493762.approved_gay_only_offenbach.
	html">https://www.joyclub.de/event/1493762.approved_gay_only_offenbach.htm
	l</a></p>
END:VEVENT
BEGIN:VEVENT
UID:21@bootblack.events
SUMMARY:Bootblack Stand @Mr Fetish Germany 2024
DTSTAMP:20260424T164921Z
DTSTART:20241109T160000Z
DESCRIPTION:Get your shine on with Bootblackkollektiv Süddeutschland\n[http
	s://www.wonderlink.de/@bootblackkollektiv] and friends at the Mr Fetish\nG
	ermany Election 2024 in Munich.\n\nMore info about the event:\nhttps://www
	.mlc-munich.de/web/en/partys-events/mr-fetish-germany-2024/\n[https://www.
	mlc-munich.de/web/en/partys-events/mr-fetish-germany-2024/]
URL:https://bootblack.events/event/bootblack-stand-mr-fetish-germany-2024
GEO:48.1289275;11.56794
LOCATION:Milla Club - Holzstraße 28\, 80469 München
STATUS:CONFIRMED
CATEGORIES:Germany,Munich,Bootblack Stand
X-ALT-DESC;FMTTYPE=text/html:<p>Get your shine on with <a target="_blank" h
	ref="https://www.wonderlink.de/@bootblackkollektiv">Bootblackkollektiv Süd
	deutschland</a> and friends at the Mr Fetish Germany Election 2024 in Muni
	ch.</p><p>More info about the event: <a target="_blank" href="https://www.
	mlc-munich.de/web/en/partys-events/mr-fetish-germany-2024/">https://www.ml
	c-munich.de/web/en/partys-events/mr-fetish-germany-2024/</a></p>
END:VEVENT
BEGIN:VEVENT
UID:33@bootblack.events
SUMMARY:Bootblacking @ STRIPPED
DTSTAMP:20260424T164921Z
DTSTART:20241019T190000Z
DESCRIPTION:Bootblack stand by Karlheinz and Tobias at the STRIPPED Depeche
	 Mode & 80s Kinky\nDance & Play Party.\n\nMore info about the event:\nhttp
	s://www.joyclub.de/event/1549364.stripped_depeche_mode_80er_dance_play_off
	enbach.html\n[https://www.joyclub.de/event/1549364.stripped_depeche_mode_8
	0er_dance_play_offenbach.html]
URL:https://bootblack.events/event/bootblacking-stripped
GEO:50.0979836;8.7644646
LOCATION:Grande Opera Offenbach - Christian-Pleß-Straße 11-13\, 63069 Offen
	bach am Main
STATUS:CONFIRMED
CATEGORIES:Offenbach,Germany,Bootblack Stand
X-ALT-DESC;FMTTYPE=text/html:<p>Bootblack stand by Karlheinz and Tobias at 
	the STRIPPED Depeche Mode &amp; 80s Kinky Dance &amp; Play Party.</p><p>Mo
	re info about the event: <a target="_blank" href="https://www.joyclub.de/e
	vent/1549364.stripped_depeche_mode_80er_dance_play_offenbach.html">https:/
	/www.joyclub.de/event/1549364.stripped_depeche_mode_80er_dance_play_offenb
	ach.html</a></p>
END:VEVENT
BEGIN:VEVENT
UID:1@bootblack.events
SUMMARY:Bootblack Stand @Folsom Europe 2024
DTSTAMP:20260424T164921Z
DTSTART:20240914T100000Z
DTEND:20240914T190000Z
DESCRIPTION:The bootblack stand will be located near the BLF Berlin Stage i
	n Welserstraße.
URL:https://bootblack.events/event/bootblack-stand-folsom-europe
GEO:52.498297;13.342207
LOCATION:Folsom Europe Berlin - Welserstraße 14-22\, 10777 Berlin
STATUS:CONFIRMED
CATEGORIES:Germany,Bootblack Stand,Berlin
X-ALT-DESC;FMTTYPE=text/html:<p>The bootblack stand will be located near th
	e BLF Berlin Stage in Welserstraße.</p>
END:VEVENT
BEGIN:VEVENT
UID:24@bootblack.events
SUMMARY:Bootblacking @Butcherei Lindinger
DTSTAMP:20260424T164921Z
DTSTART:20240913T100000Z
DTEND:20240915T160000Z
DESCRIPTION:We'll have a Bootblack Stand at Butcherei Lindinger's Prosecco 
	for Pigs. Stop\nby\, get your gear shined and earn a pawesome sticker! Eve
	rybody is welcome.\n\nOn Friday we'll have a special Puppy Hour from 1 p.m
	. to 3 p.m. for all pups\nwith leather hoods who want to attend the Folsom
	 Puppy Walk extra shiny and\nsparkly. Check out Instagram for details:\nht
	tps://www.instagram.com/p/C_nFEDZMoHF/\n[https://www.instagram.com/p/C_nFE
	DZMoHF/?utm_source=ig_web_copy_link&igsh=MzRlODBiNWFlZA==]
URL:https://bootblack.events/event/bootblacking-butcherei-lindinger
GEO:52.4984516;13.3497155
LOCATION:Butcherei Lindinger - Motzstraße 18\, 10777 Berlin
STATUS:CONFIRMED
CATEGORIES:Germany,Bootblack Stand,Berlin
X-ALT-DESC;FMTTYPE=text/html:<p>We'll have a Bootblack Stand at Butcherei L
	indinger's Prosecco for Pigs. Stop by, get your gear shined and earn a paw
	esome sticker! Everybody is welcome.</p><p>On Friday we'll have a special 
	Puppy Hour from 1 p.m. to 3 p.m. for all pups with leather hoods who want 
	to attend the Folsom Puppy Walk extra shiny and sparkly. Check out Instagr
	am for details: <a target="_blank" href="https://www.instagram.com/p/C_nFE
	DZMoHF/?utm_source=ig_web_copy_link&amp;igsh=MzRlODBiNWFlZA==">https://www
	.instagram.com/p/C_nFEDZMoHF/</a></p>
END:VEVENT
END:VCALENDAR
