BEGIN:VCALENDAR
VERSION:2.0
CALSCALE:GREGORIAN
PRODID:adamgibbons/ics
METHOD:PUBLISH
X-PUBLISHED-TTL:PT1H
BEGIN:VEVENT
UID:127@bootblack.events
SUMMARY:Bootblacking @Hex Leeds
DTSTAMP:20260424T164952Z
DTSTART:20251122T170000Z
DESCRIPTION:Bootblack stand
URL:https://bootblack.events/event/bootblacking-hex-leeds
LOCATION:Left Bank Leeds - Cardigan Rd\, Burley\, Leeds LS6 1LJ\, Vereinigt
	es Königreich
STATUS:CONFIRMED
CATEGORIES:Bootblack Stand,Leeds,UK
X-ALT-DESC;FMTTYPE=text/html:<p>Bootblack stand</p>
END:VEVENT
END:VCALENDAR
