BEGIN:VCALENDAR
VERSION:2.0
CALSCALE:GREGORIAN
PRODID:adamgibbons/ics
METHOD:PUBLISH
X-PUBLISHED-TTL:PT1H
BEGIN:VEVENT
UID:129@bootblack.events
SUMMARY:Bootblacking @ Lisbon meets Fetish
DTSTAMP:20260424T165228Z
DTSTART:20250926T210000Z
DTEND:20250928T215900Z
DESCRIPTION:Bootblacking at the gear social on friday 26th\, 23h
URL:https://bootblack.events/event/bootblacking-lisbon-meets-fetish
GEO:38.71440469245531;-9.149768890425626
LOCATION:Bar Tr3s Lisboa - R. Ruben A. Leitão 2A\, 1200-392 Lisboa\, Portug
	al
STATUS:CONFIRMED
CATEGORIES:Bootblack Stand,Lisbon,Portugal
X-ALT-DESC;FMTTYPE=text/html:<p>Bootblacking at the gear social on friday 2
	6th, 23h</p>
END:VEVENT
END:VCALENDAR
