BEGIN:VCALENDAR
VERSION:2.0
CALSCALE:GREGORIAN
PRODID:adamgibbons/ics
METHOD:PUBLISH
X-PUBLISHED-TTL:PT1H
BEGIN:VEVENT
UID:92@bootblack.events
SUMMARY:Bootblacking @ Gear Social
DTSTAMP:20260424T165300Z
DTSTART:20250830T210000Z
DESCRIPTION:Held in Bar Tr3s\, Lisboa\, Gear Social provides a unique oppor
	tunity for everyone\nto immerse themselves in fetish culture\, exploring a
	 diverse and welcoming\ncommunity. The social includes a bootblack station
	 where you can get your gear\ncared for and shined up.\n\nMore info about 
	the event: https://gearclubportugal.wixsite.com/home/gearsocials\n[https:/
	/gearclubportugal.wixsite.com/home/gearsocials]
URL:https://bootblack.events/event/bootblacking-gear-social-5
GEO:38.71440469245531;-9.149768890425626
LOCATION:Bar Tr3s Lisboa - R. Ruben A. Leitão 2A\, 1200-392 Lisboa\, Portug
	al
STATUS:CONFIRMED
CATEGORIES:Bootblack Stand,Lissabon,Portugal
X-ALT-DESC;FMTTYPE=text/html:<p>Held in Bar Tr3s, Lisboa, Gear Social provi
	des a unique opportunity for everyone to immerse themselves in fetish cult
	ure, exploring a diverse and welcoming community. The social includes a bo
	otblack station where you can get your gear cared for and shined up.</p><p
	>More info about the event: <a href="https://gearclubportugal.wixsite.com/
	home/gearsocials" target="_blank">https://gearclubportugal.wixsite.com/hom
	e/gearsocials</a></p>
END:VEVENT
BEGIN:VEVENT
UID:91@bootblack.events
SUMMARY:Bootblacking @ Gear Social
DTSTAMP:20260424T165300Z
DTSTART:20250614T210000Z
DESCRIPTION:Held in Bar Tr3s\, Lisboa\, Gear Social provides a unique oppor
	tunity for everyone\nto immerse themselves in fetish culture\, exploring a
	 diverse and welcoming\ncommunity. The social includes a bootblack station
	 where you can get your gear\ncared for and shined up.\n\nMore info about 
	the event: https://gearclubportugal.wixsite.com/home/gearsocials\n[https:/
	/gearclubportugal.wixsite.com/home/gearsocials]
URL:https://bootblack.events/event/bootblacking-gear-social-4
GEO:38.71440469245531;-9.149768890425626
LOCATION:Bar Tr3s Lisboa - R. Ruben A. Leitão 2A\, 1200-392 Lisboa\, Portug
	al
STATUS:CONFIRMED
CATEGORIES:Bootblack Stand,Portugal,Lissabon
X-ALT-DESC;FMTTYPE=text/html:<p>Held in Bar Tr3s, Lisboa, Gear Social provi
	des a unique opportunity for everyone to immerse themselves in fetish cult
	ure, exploring a diverse and welcoming community. The social includes a bo
	otblack station where you can get your gear cared for and shined up.</p><p
	>More info about the event: <a target="_blank" href="https://gearclubportu
	gal.wixsite.com/home/gearsocials">https://gearclubportugal.wixsite.com/hom
	e/gearsocials</a></p>
END:VEVENT
BEGIN:VEVENT
UID:90@bootblack.events
SUMMARY:Bootblacking @ Gear Social
DTSTAMP:20260424T165300Z
DTSTART:20250426T210000Z
DESCRIPTION:Held in Bar Tr3s\, Lisboa\, Gear Social provides a unique oppor
	tunity for everyone\nto immerse themselves in fetish culture\, exploring a
	 diverse and welcoming\ncommunity. The social includes a bootblack station
	 where you can get your gear\ncared for and shined up.\n\nMore info about 
	the event: https://gearclubportugal.wixsite.com/home/gearsocials\n[https:/
	/gearclubportugal.wixsite.com/home/gearsocials]
URL:https://bootblack.events/event/bootblacking-gear-social-3
GEO:38.71440469245531;-9.149768890425626
LOCATION:Bar Tr3s Lisboa - R. Ruben A. Leitão 2A\, 1200-392 Lisboa\, Portug
	al
STATUS:CONFIRMED
CATEGORIES:Portugal,Bootblack Stand,Lissabon
X-ALT-DESC;FMTTYPE=text/html:<p>Held in Bar Tr3s, Lisboa, Gear Social provi
	des a unique opportunity for everyone to immerse themselves in fetish cult
	ure, exploring a diverse and welcoming community. The social includes a bo
	otblack station where you can get your gear cared for and shined up.</p><p
	>More info about the event: <a href="https://gearclubportugal.wixsite.com/
	home/gearsocials" target="_blank">https://gearclubportugal.wixsite.com/hom
	e/gearsocials</a></p>
END:VEVENT
BEGIN:VEVENT
UID:65@bootblack.events
SUMMARY:Bootblacking @ Gear Social
DTSTAMP:20260424T165300Z
DTSTART:20250222T220000Z
DESCRIPTION:Held on the last Saturday of each month\, in Bar Tr3s\, Lisboa\
	, Gear Social\nprovides a unique opportunity for everyone to immerse thems
	elves in fetish\nculture\, exploring a diverse and welcoming community. Th
	e social includes a\nbootblack station where you can get your gear cared f
	or and shined up.\n\nMore info about the event: https://gearclubportugal.w
	ixsite.com/home/gearsocials\n[https://gearclubportugal.wixsite.com/home/ge
	arsocials]
URL:https://bootblack.events/event/bootblacking-gear-social-1
GEO:38.71440469245531;-9.149768890425626
LOCATION:Bar Tr3s Lisboa - R. Ruben A. Leitão 2A\, 1200-392 Lisboa\, Portug
	al
STATUS:CONFIRMED
CATEGORIES:Bootblack Stand,Portugal,Lissabon
X-ALT-DESC;FMTTYPE=text/html:<p>Held on the last Saturday of each month, in
	 Bar Tr3s, Lisboa, Gear Social provides a unique opportunity for everyone 
	to immerse themselves in fetish culture, exploring a diverse and welcoming
	 community. The social includes a bootblack station where you can get your
	 gear cared for and shined up.</p><p>More info about the event: <a target=
	"_blank" href="https://gearclubportugal.wixsite.com/home/gearsocials">http
	s://gearclubportugal.wixsite.com/home/gearsocials</a></p>
END:VEVENT
END:VCALENDAR
