BEGIN:VCALENDAR
VERSION:2.0
CALSCALE:GREGORIAN
PRODID:adamgibbons/ics
METHOD:PUBLISH
X-PUBLISHED-TTL:PT1H
BEGIN:VEVENT
UID:161@bootblack.events
SUMMARY:Hunter
DTSTAMP:20260424T130254Z
DTSTART:20260515T180000Z
DTEND:20260515T210000Z
DESCRIPTION:Bootblack Stand at hunter will be open 8pm - 11pm in the forepl
	ay Bar\n\nNormally manned by @bootblackcub\n\nCash and Card tips Accepted
URL:https://bootblack.events/event/hunter-7
GEO:51.5324877;-0.1050124
LOCATION:Electrowerkz\, London - 7 Torrens Street\, London\, GB EC1V 1NQ
STATUS:CONFIRMED
CATEGORIES:UK Bootblacks,London,HunterLDN
X-ALT-DESC;FMTTYPE=text/html:<p>Bootblack Stand at hunter will be open 8pm 
	- 11pm in the foreplay Bar</p><p>Normally manned by @bootblackcub</p><p>Ca
	sh and Card tips Accepted</p>
END:VEVENT
BEGIN:VEVENT
UID:159@bootblack.events
SUMMARY:London Leatherdykes social
DTSTAMP:20260424T130254Z
DTSTART:20260514T170000Z
DTEND:20260515T100000Z
DESCRIPTION:Monthly leatherdyke social hosted by London Leatherdykes\n\nMOT
	ORCYCLE DIVE BAR BOOTBLACKING CRUISING\n\nPOOL TABLE ZINES & RESOURCES £5 
	PINTS\n\nNO DRESS CODE: LEATHER & KINK CASUAL ENCOURAGED
URL:https://bootblack.events/event/london-leatherdykes-social-1
LOCATION:All My Gods Bar - 253 paradise row\, bethnal green\,e2 9le
STATUS:CONFIRMED
CATEGORIES:leatherdyke,London,Multiple Bootblacks
X-ALT-DESC;FMTTYPE=text/html:<p>Monthly leatherdyke social hosted by London
	 Leatherdykes </p><p>MOTORCYCLE DIVE BAR   BOOTBLACKING   CRUISING</p><p>P
	OOL TABLE   ZINES &amp; RESOURCES   £5 PINTS</p><p>NO DRESS CODE: LEATHER 
	&amp; KINK CASUAL ENCOURAGED</p>
END:VEVENT
BEGIN:VEVENT
UID:156@bootblack.events
SUMMARY:Hunter
DTSTAMP:20260424T130254Z
DTSTART:20260417T180000Z
DTEND:20260417T210000Z
DESCRIPTION:Bootblack Stand at hunter will be open 8pm - 11pm in the forepl
	ay Bar\n\nNormally manned by @bootblackcub\n\nCash and Card tips Accepted
URL:https://bootblack.events/event/hunter-6
GEO:51.5324877;-0.1050124
LOCATION:Electrowerkz\, London - 7 Torrens Street\, London\, GB EC1V 1NQ
STATUS:CONFIRMED
CATEGORIES:UK Bootblacks,HunterLDN,London
X-ALT-DESC;FMTTYPE=text/html:<p>Bootblack Stand at hunter will be open 8pm 
	- 11pm in the foreplay Bar</p><p>Normally manned by @bootblackcub</p><p>Ca
	sh and Card tips Accepted</p>
END:VEVENT
BEGIN:VEVENT
UID:154@bootblack.events
SUMMARY:Hunter
DTSTAMP:20260424T130254Z
DTSTART:20260320T190000Z
DTEND:20260321T100000Z
DESCRIPTION:Bootblack Stand at hunter will be open 8pm - 11pm in the forepl
	ay Bar\n\nNormally manned by @bootblackcub\n\nCash and Card tips Accepted
URL:https://bootblack.events/event/hunter-5
GEO:51.5324877;-0.1050124
LOCATION:Electrowerkz\, London - 7 Torrens Street\, London\, GB EC1V 1NQ
STATUS:CONFIRMED
CATEGORIES:UK Bootblacks,HunterLDN,London
X-ALT-DESC;FMTTYPE=text/html:<p>Bootblack Stand at hunter will be open 8pm 
	- 11pm in the foreplay Bar</p><p>Normally manned by @bootblackcub</p><p>Ca
	sh and Card tips Accepted</p>
END:VEVENT
BEGIN:VEVENT
UID:147@bootblack.events
SUMMARY:Hunter Bootblack Stand
DTSTAMP:20260424T130254Z
DTSTART:20260221T190000Z
DTEND:20260221T220000Z
DESCRIPTION:The regular Bootblack stand for Hunter will be open 8pm -11pm i
	n the foreplay\nbar\, manned by @bootblackcub\n\nCash and Card tips accept
	ed.\n\nServices offered:\n\n * High shining boots\n\n * Greasing Oil tan b
	oots\n\n * Conditioning chaps\, pants\, jocks\, vests\, harnesses and othe
	r Gear (including\n   while you wear them)\n\n * Shine and buffing latex G
	ear
URL:https://bootblack.events/event/hunter-bootblack-stand-2
GEO:51.5324877;-0.1050124
LOCATION:Electrowerkz\, London - 7 Torrens Street\, London\, GB EC1V 1NQ
STATUS:CONFIRMED
CATEGORIES:UK Bootblacks,HunterLDN,London
X-ALT-DESC;FMTTYPE=text/html:<p>The regular Bootblack stand for Hunter will
	 be open 8pm -11pm in the foreplay bar, manned by @bootblackcub</p><p>Cash
	 and Card tips accepted.</p><p>Services offered:</p><ul><li><p>High shinin
	g boots</p></li><li><p>Greasing Oil tan boots</p></li><li><p>Conditioning 
	chaps, pants, jocks, vests, harnesses and other Gear (including while you 
	wear them)</p></li><li><p>Shine and buffing latex Gear</p></li></ul>
END:VEVENT
BEGIN:VEVENT
UID:139@bootblack.events
SUMMARY:Bootblack stand at Hunter
DTSTAMP:20260424T130254Z
DTSTART:20251219T190000Z
DTEND:20251219T220000Z
DESCRIPTION:@bootblackcub will be manning the Hunter bootblack stand For De
	cember's Hunter.\n\nHight shines and greasing for boots. Conditioning for 
	your Leather gear and\nshine and buff for Latex\,\n\nCash and Card Tips ac
	cepted.
URL:https://bootblack.events/event/bootblack-stand-at-hunter-2
GEO:51.5324877;-0.1050124
LOCATION:Electrowerkz\, London - 7 Torrens Street\, London\, GB EC1V 1NQ
STATUS:CONFIRMED
CATEGORIES:UK Bootblacks,HunterLDN,London
X-ALT-DESC;FMTTYPE=text/html:<p>@bootblackcub will be manning the Hunter bo
	otblack stand For December's Hunter. </p><p>Hight shines and greasing for 
	boots. Conditioning for your Leather gear and shine and buff for Latex,</p
	><p>Cash and Card Tips accepted.</p>
END:VEVENT
BEGIN:VEVENT
UID:125@bootblack.events
SUMMARY:Hunter Bootblack Stand
DTSTAMP:20260424T130254Z
DTSTART:20250815T183000Z
DTEND:20250816T090000Z
DESCRIPTION:Craig will be manning the Hunter bootblack stand.\n\nHigh shine
	s and oil tan Greasing avalible\, as well as gear rubdowns.\n\nContactless
	 and Cash tips accepted.
URL:https://bootblack.events/event/hunter-bootblack-stand-1
GEO:51.5324877;-0.1050124
LOCATION:Electrowerkz\, London - 7 Torrens Street\, London\, GB EC1V 1NQ
STATUS:CONFIRMED
CATEGORIES:UK Bootblacks,HunterLDN,London
X-ALT-DESC;FMTTYPE=text/html:<p>Craig will be manning the Hunter bootblack 
	stand. </p><p>High shines and oil tan Greasing avalible, as well as gear r
	ubdowns.</p><p>Contactless and Cash tips accepted.</p>
END:VEVENT
BEGIN:VEVENT
UID:112@bootblack.events
SUMMARY:Bootblacking @ Leatherlovers
DTSTAMP:20260424T130254Z
DTSTART:20250524T160000Z
DESCRIPTION:Bootblacking at the monthly queer leather night for d!kes and f
	vgs\n\nMore info: https://www.instagram.com/p/DJ65Mr4tc21/?img_index=4\n[h
	ttps://www.instagram.com/p/DJ65Mr4tc21/?img_index=4]
URL:https://bootblack.events/event/bootblacking-leatherlovers
LOCATION:Goldie Saloon London - 10 Andre Street\, Hackney\, E8 2AA
STATUS:CONFIRMED
CATEGORIES:Bootblack Stand,London,UK
X-ALT-DESC;FMTTYPE=text/html:<p>Bootblacking at the monthly queer leather n
	ight for d!kes and fvgs </p><p>More info: <a target="_blank" href="https:/
	/www.instagram.com/p/DJ65Mr4tc21/?img_index=4">https://www.instagram.com/p
	/DJ65Mr4tc21/?img_index=4</a></p>
END:VEVENT
BEGIN:VEVENT
UID:108@bootblack.events
SUMMARY:Hunter Weekend
DTSTAMP:20260424T130254Z
DTSTART:20250516T180000Z
DTEND:20250518T150000Z
DESCRIPTION:Hunter weekend will have Bootblack Stations at multiple events\
	n\nFriday 16th 20:30-23:30 - Bad Dog Bootblack\n\nSaturday 17th (day) 12:3
	0-03:30 - Bootblack Craig\n\nSaturday 17th (Night) 20:30-23:30 - Bootblack
	 Joshi
URL:https://bootblack.events/event/hunter-weekend
GEO:51.5324877;-0.1050124
LOCATION:Electrowerkz\, London - 7 Torrens Street\, London\, GB EC1V 1NQ
STATUS:CONFIRMED
CATEGORIES:London,HunterLDN,UK Bootblacks,UK
X-ALT-DESC;FMTTYPE=text/html:<p>Hunter weekend will have Bootblack Stations
	 at multiple events</p><p><strong>Friday 16th</strong> <strong>20:30-23:30
	</strong> - Bad Dog Bootblack</p><p><strong>Saturday 17th (day) 12:30-03:3
	0 </strong>- Bootblack Craig</p><p><strong>Saturday 17th (Night) 20:30-23:
	30</strong> - Bootblack Joshi</p>
END:VEVENT
BEGIN:VEVENT
UID:93@bootblack.events
SUMMARY:Bootblacking @ Leather Cruise
DTSTAMP:20260424T130254Z
DTSTART:20250419T170000Z
DESCRIPTION:Bvtch Boots (UK Bootblack 2024) will be bootblacking at Leather
	 Cruise.\n\nMore info about the event: https://www.instagram.com/p/DHnV0X9
	sH-o/\n[https://www.instagram.com/p/DHnV0X9sH-o/]
URL:https://bootblack.events/event/bootblacking-leather-cruise
LOCATION:The Underground Club - 37 Wharfdale Road\, King’s Cross\, N1 9SD
STATUS:CONFIRMED
CATEGORIES:Bootblack Stand,UK,London
X-ALT-DESC;FMTTYPE=text/html:<p>Bvtch Boots (UK Bootblack 2024) will be boo
	tblacking at Leather Cruise. </p><p>More info about the event: <a target="
	_blank" href="https://www.instagram.com/p/DHnV0X9sH-o/">https://www.instag
	ram.com/p/DHnV0X9sH-o/</a></p>
END:VEVENT
BEGIN:VEVENT
UID:98@bootblack.events
SUMMARY:Hunter bootblack Stand
DTSTAMP:20260424T130254Z
DTSTART:20250418T180000Z
DTEND:20250418T210000Z
DESCRIPTION:Hunter's regular bootblack stand will be open 8pm to 11pm with 
	Bootblack Craig
URL:https://bootblack.events/event/hunter-bootblack-stand
GEO:51.5324877;-0.1050124
LOCATION:Electrowerkz\, London - 7 Torrens Street\, London\, GB EC1V 1NQ
STATUS:CONFIRMED
CATEGORIES:London
X-ALT-DESC;FMTTYPE=text/html:<p>Hunter's regular bootblack stand will be op
	en 8pm to 11pm with Bootblack Craig</p>
END:VEVENT
BEGIN:VEVENT
UID:83@bootblack.events
SUMMARY:HUNTER
DTSTAMP:20260424T130254Z
DTSTART:20250321T193000Z
DTEND:20250321T230000Z
DESCRIPTION:Hunter will have 2 bootblacks on duty!. Craig and Joshi will be
	 on duty from\n8.30\, shift order and stations TBD.
URL:https://bootblack.events/event/hunter-3
GEO:51.5324877;-0.1050124
LOCATION:Electrowerkz\, London - 7 Torrens Street\, London\, GB EC1V 1NQ
STATUS:CONFIRMED
CATEGORIES:UK Bootblacks,UK,hunter,Multiple Bootblacks,London
X-ALT-DESC;FMTTYPE=text/html:<p>Hunter will have 2 bootblacks on duty!. Cra
	ig and Joshi will be on duty from 8.30, shift order and stations TBD.</p>
END:VEVENT
BEGIN:VEVENT
UID:84@bootblack.events
SUMMARY:Bootblack Stand @ Leather Cruise at Underground
DTSTAMP:20260424T130254Z
DTSTART:20250315T180000Z
DESCRIPTION:Bootblack Stand at the Leather Cruise\n\nMore info about the ev
	ent: https://www.instagram.com/leathercruiseunderground/\n[https://www.ins
	tagram.com/leathercruiseunderground/]
URL:https://bootblack.events/event/bootblack-stand-leather-cruise-at-underg
	round
GEO:51.5334362;-0.120925
LOCATION:Underground Club London - 37 Wharfdale Rd.\, London N1 9SD\, Unite
	d Kingdom
STATUS:CONFIRMED
CATEGORIES:UK,Bootblack Stand,London
X-ALT-DESC;FMTTYPE=text/html:<p>Bootblack Stand at the Leather Cruise</p><p
	>More info about the event: <a target="_blank" href="https://www.instagram
	.com/leathercruiseunderground/">https://www.instagram.com/leathercruiseund
	erground/</a></p>
END:VEVENT
BEGIN:VEVENT
UID:78@bootblack.events
SUMMARY:Bootblack Stand @ London Alternative Market
DTSTAMP:20260424T130254Z
DTSTART:20250302T110000Z
URL:https://bootblack.events/event/bootblack-stand-london-alternative-marke
	t
GEO:51.515545;-0.120776
LOCATION:Sway Bar London - 61-65 Great Queen St\, WC2B 5BZ
STATUS:CONFIRMED
CATEGORIES:UK,London,Bootblack Stand
END:VEVENT
BEGIN:VEVENT
UID:73@bootblack.events
SUMMARY:Bootblack Stand @ Dyke March Fundraiser
DTSTAMP:20260424T130254Z
DTSTART:20250221T190000Z
DESCRIPTION:Bvtchboots will be running her bootblack stand at Goldie Saloon
	 for the Dyke\nMarch fundraiser. If you'll be attending and wearing boots\
	, jackets\, trousers\,\nor anything else made of leather\, give her a visi
	t to get them serviced.
URL:https://bootblack.events/event/bootblack-stand-dyke-march-fundraiser
LOCATION:Goldie Saloon London - 10 Andre Street\, Hackney\, E8 2AA
STATUS:CONFIRMED
CATEGORIES:Bootblack Stand,London,UK
X-ALT-DESC;FMTTYPE=text/html:<p>Bvtchboots will be running her bootblack st
	and at Goldie Saloon for the Dyke March fundraiser. If you'll be attending
	 and wearing boots, jackets, trousers, or anything else made of leather, g
	ive her a visit to get them serviced.</p>
END:VEVENT
BEGIN:VEVENT
UID:66@bootblack.events
SUMMARY:Bootblacking @ The Leather Social London
DTSTAMP:20260424T130254Z
DTSTART:20250202T150000Z
DESCRIPTION:Bootblack UK titleholder BvtchBoots will be bootblacking at the
	 London Leather\nSocial.\n\nhttps://londonleathermen.co.uk/events-calendar
	/the-london-leather-social/\n[https://londonleathermen.co.uk/events-calend
	ar/the-london-leather-social/]
URL:https://bootblack.events/event/bootblacking-the-leather-social-london
GEO:51.5126049;-0.1325151
LOCATION:Comptons Soho - 51-53\, Old Compton Street\, Soho\, London\, Great
	er London\, England\, W1D 6HN\, United Kingdom
STATUS:CONFIRMED
CATEGORIES:Bootblack Stand,London,UK
X-ALT-DESC;FMTTYPE=text/html:<p>Bootblack UK titleholder BvtchBoots will be
	 bootblacking at the London Leather Social.</p><p><a target="_blank" href=
	"https://londonleathermen.co.uk/events-calendar/the-london-leather-social/
	">https://londonleathermen.co.uk/events-calendar/the-london-leather-social
	/</a></p>
END:VEVENT
BEGIN:VEVENT
UID:63@bootblack.events
SUMMARY:Bootblack Stand at the London Alternative Market
DTSTAMP:20260424T130254Z
DTSTART:20250202T110000Z
DESCRIPTION:In the Cocktail room there will be a Bootblack Stand. We bootbl
	ack to provide a\nservice to others in our community\, creating an environ
	ment for discussion\, play\nand learning.⁠ It's not just shoes bootblacks 
	can care for. Your leather\ngarments\, impact toys and restraints can rece
	ive the TLC treatment too.⁠\n\n⁠Get your tickets now at https://www.ticket
	tailor.com/events/lamevents/708999\n[https://www.tickettailor.com/events/l
	amevents/708999]⁠\n\n⁠More Info about the event: https://londonalternative
	market.com/\n[https://londonalternativemarket.com/]
URL:https://bootblack.events/event/bootblack-stand-at-the-london-alternativ
	e-market
GEO:51.515545;-0.120776
LOCATION:Sway Bar London - 61-65 Great Queen St\, WC2B 5BZ
STATUS:CONFIRMED
CATEGORIES:Bootblack Stand,London,UK
X-ALT-DESC;FMTTYPE=text/html:<p>In the Cocktail room there will be a Bootbl
	ack Stand. We bootblack to provide a service to others in our community, c
	reating an environment for discussion, play and learning.⁠ It's not just s
	hoes bootblacks can care for. Your leather garments, impact toys and restr
	aints can receive the TLC treatment too.⁠</p><p>⁠Get your tickets now at <
	a target="_blank" href="https://www.tickettailor.com/events/lamevents/7089
	99">https://www.tickettailor.com/events/lamevents/708999</a>⁠</p><p>⁠More 
	Info about the event: <a target="_blank" href="https://londonalternativema
	rket.com/">https://londonalternativemarket.com/</a></p>
END:VEVENT
BEGIN:VEVENT
UID:49@bootblack.events
SUMMARY:Bootblack Stand at Hunter
DTSTAMP:20260424T130254Z
DTSTART:20241213T193000Z
DTEND:20241213T223000Z
DESCRIPTION:Craig will be working his normal shift at this month's Hunter.
URL:https://bootblack.events/event/bootblack-stand-at-hunter
GEO:51.5324877;-0.1050124
LOCATION:Electrowerkz\, London - 7 Torrens Street\, London\, GB EC1V 1NQ
STATUS:CONFIRMED
CATEGORIES:hunter,UK Bootblacks,London,UK
X-ALT-DESC;FMTTYPE=text/html:<p>Craig will be working his normal shift at t
	his month's Hunter.</p>
END:VEVENT
BEGIN:VEVENT
UID:36@bootblack.events
SUMMARY:Leather Cruise  x LLW2024
DTSTAMP:20260424T130254Z
DTSTART:20241116T180000Z
DESCRIPTION:Come experience a good\, old-fashioned cruising night like the 
	kind you just\ndon’t see anymore. Low lights\, gear. an in-house bootblack
	\, a dark play area\,\nand sexy tunes that will take you back in time.\n\n
	More info about the event:\nhttps://londonleathermen.co.uk/london-leather-
	weekend/\n[https://londonleathermen.co.uk/london-leather-weekend/]
URL:https://bootblack.events/event/leather-cruise-x-llw2024
LOCATION:The Underground Club - 37 Wharfdale Road\, King’s Cross\, N1 9SD
STATUS:CONFIRMED
CATEGORIES:London,Bootblack Stand,UK
X-ALT-DESC;FMTTYPE=text/html:<p>Come experience a good, old-fashioned cruis
	ing night like the kind you just don’t see anymore. Low lights, gear. an i
	n-house bootblack, a dark play area, and sexy tunes that will take you bac
	k in time.</p><p>More info about the event: <a target="_blank" href="https
	://londonleathermen.co.uk/london-leather-weekend/">https://londonleatherme
	n.co.uk/london-leather-weekend/</a></p>
END:VEVENT
BEGIN:VEVENT
UID:34@bootblack.events
SUMMARY:Bootblacking @ Goldie Saloon
DTSTAMP:20260424T130254Z
DTSTART:20241031T180000Z
DTEND:20241031T220000Z
DESCRIPTION:Bootblack stand by Bvtch Boots at the FLINTA* Halloween party a
	t Goldie Saloon.\n\nMore info about the event: https://www.instagram.com/p
	/DBRzZf2ouJr/\n[https://www.instagram.com/p/DBRzZf2ouJr/]
URL:https://bootblack.events/event/bootblacking-goldie-saloon
LOCATION:Goldie Saloon London - 10 Andre Street\, Hackney\, E8 2AA
STATUS:CONFIRMED
CATEGORIES:UK,London,Bootblack Stand
X-ALT-DESC;FMTTYPE=text/html:<p>Bootblack stand by Bvtch Boots at the FLINT
	A* Halloween party at Goldie Saloon.</p><p>More info about the event: <a t
	arget="_blank" href="https://www.instagram.com/p/DBRzZf2ouJr/">https://www
	.instagram.com/p/DBRzZf2ouJr/</a></p>
END:VEVENT
BEGIN:VEVENT
UID:32@bootblack.events
SUMMARY:Bootblacking @ Rawhide
DTSTAMP:20260424T130254Z
DTSTART:20241026T180000Z
DTEND:20241026T200000Z
URL:https://bootblack.events/event/bootblacking-rawhide
LOCATION:Lord Clyde London - 9 Wotton Road\, London
STATUS:CONFIRMED
CATEGORIES:Bootblack Stand,London,UK
END:VEVENT
BEGIN:VEVENT
UID:31@bootblack.events
SUMMARY:Bootblacking @ Hunter
DTSTAMP:20260424T130254Z
DTSTART:20241018T180000Z
DESCRIPTION:Bootblack stand in the foreplay bar\, 20-22h\n\nhttps://www.ins
	tagram.com/p/DBOvowes3Xj/?igsh=N3g5ZXhibWJ2cGZ2\n[https://www.instagram.co
	m/p/DBOvowes3Xj/?igsh=N3g5ZXhibWJ2cGZ2]
URL:https://bootblack.events/event/bootblacking-hunter
GEO:51.5324877;-0.1050124
LOCATION:Electrowerkz\, London - 7 Torrens Street\, London\, GB EC1V 1NQ
STATUS:CONFIRMED
CATEGORIES:Bootblack Stand,London,UK
X-ALT-DESC;FMTTYPE=text/html:<p>Bootblack stand in the foreplay bar, 20-22h
	</p><p><a target="_blank" href="https://www.instagram.com/p/DBOvowes3Xj/?i
	gsh=N3g5ZXhibWJ2cGZ2">https://www.instagram.com/p/DBOvowes3Xj/?igsh=N3g5ZX
	hibWJ2cGZ2</a></p>
END:VEVENT
BEGIN:VEVENT
UID:20@bootblack.events
SUMMARY:Bootblacking @ Rawhide London
DTSTAMP:20260424T130254Z
DTSTART:20240824T190000Z
DESCRIPTION:Details about the event at: https://www.instagram.com/rawhidelo
	ndon/\n[https://www.instagram.com/rawhidelondon/]
URL:https://bootblack.events/event/bootblacking-rawhide-london
LOCATION:Lord Clyde London - 9 Wotton Road\, London
STATUS:CONFIRMED
CATEGORIES:London,UK,Bootblack Stand
X-ALT-DESC;FMTTYPE=text/html:<p>Details about the event at: <a target="_bla
	nk" href="https://www.instagram.com/rawhidelondon/">https://www.instagram.
	com/rawhidelondon/</a></p>
END:VEVENT
BEGIN:VEVENT
UID:4@bootblack.events
SUMMARY:Hunter
DTSTAMP:20260424T130254Z
DTSTART:20240719T180000Z
DTEND:20240719T210000Z
DESCRIPTION:Craig bootblacks in the main atrium from 20:30 to 23:00.\n\nHun
	ter is a strict dress code fetish night with educational lessons at 9pm\, 
	live\ndemos and darkroom from 10pm.
URL:https://bootblack.events/event/hunter
GEO:51.5324877;-0.1050124
LOCATION:Electrowerkz\, London - 7 Torrens Street\, London\, GB EC1V 1NQ
STATUS:CONFIRMED
CATEGORIES:hunter,London,Bootblack Stand,UK
X-ALT-DESC;FMTTYPE=text/html:<p>Craig bootblacks in the main atrium from 20
	:30 to 23:00.</p><p>Hunter is a strict dress code fetish night with educat
	ional lessons at 9pm, live demos and darkroom from 10pm.</p>
END:VEVENT
END:VCALENDAR
