BEGIN:VCALENDAR
VERSION:2.0
CALSCALE:GREGORIAN
PRODID:adamgibbons/ics
METHOD:PUBLISH
X-PUBLISHED-TTL:PT1H
BEGIN:VEVENT
UID:27@bootblack.events
SUMMARY:10th Anniversary of LFM
DTSTAMP:20260424T180714Z
DTSTART:20241012T140000Z
DTEND:20241012T213000Z
DESCRIPTION:Satyridium will be bootblacking during the party.\n\nMore info 
	about the event:\nhttps://www.lfmilano.com/season/2024-2025/event/10th-ann
	iversary-of-the-club-october-2024-october-2024\n[https://www.lfmilano.com/
	season/2024-2025/event/10th-anniversary-of-the-club-october-2024-october-2
	024]
URL:https://bootblack.events/event/10th-anniversary-of-lfm
GEO:45.4641943;9.1896346
LOCATION:Milano - Milano\, Lombardia\, Italia
STATUS:CONFIRMED
CATEGORIES:Bootblack Stand,Italy,Milano
X-ALT-DESC;FMTTYPE=text/html:<p>Satyridium will be bootblacking during the 
	party.</p><p>More info about the event: <a target="_blank" href="https://w
	ww.lfmilano.com/season/2024-2025/event/10th-anniversary-of-the-club-octobe
	r-2024-october-2024">https://www.lfmilano.com/season/2024-2025/event/10th-
	anniversary-of-the-club-october-2024-october-2024</a></p>
END:VEVENT
END:VCALENDAR
