BEGIN:VCALENDAR
VERSION:2.0
CALSCALE:GREGORIAN
PRODID:adamgibbons/ics
METHOD:PUBLISH
X-PUBLISHED-TTL:PT1H
BEGIN:VEVENT
UID:124@bootblack.events
SUMMARY:Bootblacking @ Oslo Fetish Weekend
DTSTAMP:20260424T165125Z
DTSTART:20250807T160000Z
DTEND:20250810T215900Z
URL:https://bootblack.events/event/bootblacking-oslo-fetish-weekend
GEO:59.9133301;10.7389701
LOCATION:Oslo - Oslo
STATUS:CONFIRMED
CATEGORIES:Oslo
X-ALT-DESC;FMTTYPE=text/html:<p></p>
END:VEVENT
END:VCALENDAR
