BEGIN:VCALENDAR
VERSION:2.0
CALSCALE:GREGORIAN
PRODID:adamgibbons/ics
METHOD:PUBLISH
X-PUBLISHED-TTL:PT1H
BEGIN:VEVENT
UID:131@bootblack.events
SUMMARY:Bootblack Havoc @ Baltic Battle Welcome Party
DTSTAMP:20260424T165137Z
DTSTART:20251017T180000Z
DTEND:20251017T214500Z
DESCRIPTION:Bootblack Havoc will be present and in service during the Balti
	c Battle Welcome\nParty.\n\nBaltic Battle is a weekend long fetish event f
	or men\, taking place each year in\nStockholm.
URL:https://bootblack.events/event/bootblack-havoc-baltic-battle-welcome-pa
	rty
LOCATION:Hus 7 (Slakthusområdet) - Styckmästargatan 10\, 121 62 Johanneshov
	\, Sweden
STATUS:CONFIRMED
CATEGORIES:Bootblack Stand,Sweden,Stockholm
X-ALT-DESC;FMTTYPE=text/html:<p>Bootblack Havoc will be present and in serv
	ice during the Baltic Battle Welcome Party.</p><p>Baltic Battle is a weeke
	nd long fetish event for men, taking place each year in Stockholm.</p>
END:VEVENT
BEGIN:VEVENT
UID:72@bootblack.events
SUMMARY:Bootblack Stand @ Club Berlin
DTSTAMP:20260424T165137Z
DTSTART:20250215T210000Z
DESCRIPTION:Info about the event: https://slmstockholm.se/events/2025-02-15
	-club-berlin/\n[https://slmstockholm.se/events/2025-02-15-club-berlin/]
URL:https://bootblack.events/event/bootblack-stand-club-berlin
GEO:59.316732;18.0615606
LOCATION:Scandinavian Leather Men Stockholm - Wollmar Yxkullsgatan 18\, 118
	 50 Stockholm
STATUS:CONFIRMED
CATEGORIES:Sweden,Bootblack Stand,Stockholm
X-ALT-DESC;FMTTYPE=text/html:<p>Info about the event: <a target="_blank" hr
	ef="https://slmstockholm.se/events/2025-02-15-club-berlin/">https://slmsto
	ckholm.se/events/2025-02-15-club-berlin/</a></p>
END:VEVENT
BEGIN:VEVENT
UID:29@bootblack.events
SUMMARY:Bootblacking @ Stockholm Leather Social
DTSTAMP:20260424T165137Z
DTSTART:20241025T180000Z
DESCRIPTION:For one night only SLM opens its doors to ALL GENDERS by hostin
	g the October\nissue of Stockholm Leather Social (XXL)! Don't miss this hi
	storic moment to\nvisit one of Europe's oldest leather clubs for our bigge
	st one yet. It’s high\ntime we bring the entirety of Stockholm’s QUEER lea
	ther scene under one roof!\n\nMore info about the event: https://fb.me/e/7
	dQ31zzfF [https://fb.me/e/7dQ31zzfF]
URL:https://bootblack.events/event/bootblacking-stockholm-leather-social
GEO:59.316732;18.0615606
LOCATION:SLM Stockholm - Wollmar Yxkullsgatan 18
STATUS:CONFIRMED
CATEGORIES:Sweden,Bootblack Stand,Stockholm
X-ALT-DESC;FMTTYPE=text/html:<p>For one night only SLM opens its doors to A
	LL GENDERS by hosting the October issue of Stockholm Leather Social (XXL)!
	 Don't miss this historic moment to visit one of Europe's oldest leather c
	lubs for our biggest one yet. It’s high time we bring the entirety of Stoc
	kholm’s QUEER leather scene under one roof!</p><p>More info about the even
	t: <a target="_blank" href="https://fb.me/e/7dQ31zzfF">https://fb.me/e/7dQ
	31zzfF</a></p>
END:VEVENT
BEGIN:VEVENT
UID:10@bootblack.events
SUMMARY:Parker & Pine: 'Everyone Bottoms to a Bootblack' (performance)\, pl
	us 'Bootblacking 101: skill\, craft\, service\, seduction' (workshop)
DTSTAMP:20260424T165137Z
DTSTART:20240731T170000Z
DTEND:20240731T190000Z
DESCRIPTION:Bootblacking 101: skill\, craft\, service\, seduction (workshop
	)\n\nhttps://program.stockholmpride.org/en/events/214/bootblacking-101-wit
	h-pine-and-parker\n[https://program.stockholmpride.org/en/events/214/bootb
	lacking-101-with-pine-and-parker]\n\nPine is Bootblack Europe 2024\, the i
	naugural UK Bootblack 2023 and London\nBootblack of the Year 2022. He part
	icularly enjoys the challenge of repairs and\nrestorations\, and being the
	 fastest bootblack on the stand! He's committed to\nsupporting and teachin
	g aspiring bootblacks in his title year and creating\nbootblack community.
	\n\nParker (they/them) is an extremely skilled bootblack and leatherworker
	. They\nhave been instrumental in the European and UK bootblack scenes\, i
	ncluding as\nTally Master for both UK Bootblack and Bootblack Europe compe
	titions. Together\nwith Pine\, they run the monthly UK Bootblack Munch whe
	re novices learn the craft\nhands on and seasoned bootblacks finesse their
	 expertise and deepen their sense\nof belonging. As a member of the UK KRu
	eL Leather Family they are committed to\ncarrying forth the Leather ethos 
	'each one - teach one' through facilitating\nworkshops\, immersive experie
	nces and community events.\n\nTogether\, Parker and Pine host the Bootblac
	k Munch in the UK every month where\nnew bootblacks can come to learn and 
	improve their skills.
URL:https://bootblack.events/event/parker-and-pine-everyone-bottoms-to-a-bo
	otblack-performance-plus-bootblacking-101-skill-craft-service-seduction-wo
	rkshop
GEO:59.3544102;18.0861828
LOCATION:Kinkykvarteret - Stockholm Pride - Östermalms IP\, FISKARTORPSVÄGE
	N 2\, 114 33 Stockholm\, Sweden
STATUS:CONFIRMED
CATEGORIES:Performance,Workshop,Sweden,Stockholm
X-ALT-DESC;FMTTYPE=text/html:<p>Bootblacking 101: skill, craft, service, se
	duction (workshop)</p><p><a target="_blank" href="https://program.stockhol
	mpride.org/en/events/214/bootblacking-101-with-pine-and-parker">https://pr
	ogram.stockholmpride.org/en/events/214/bootblacking-101-with-pine-and-park
	er</a></p><p>Pine is Bootblack Europe 2024, the inaugural UK Bootblack 202
	3 and London Bootblack of the Year 2022. He particularly enjoys the challe
	nge of repairs and restorations, and being the fastest bootblack on the st
	and! He's committed to supporting and teaching aspiring bootblacks in his 
	title year and creating bootblack community.</p><p>Parker (they/them) is a
	n extremely skilled bootblack and leatherworker. They have been instrument
	al in the European and UK bootblack scenes, including as Tally Master for 
	both UK Bootblack and Bootblack Europe competitions. Together with Pine, t
	hey run the monthly UK Bootblack Munch where novices learn the craft hands
	 on and seasoned bootblacks finesse their expertise and deepen their sense
	 of belonging. As a member of the UK KRueL Leather Family they are committ
	ed to carrying forth the Leather ethos 'each one - teach one' through faci
	litating workshops, immersive experiences and community events.</p><p>Toge
	ther, Parker and Pine host the Bootblack Munch in the UK every month where
	 new bootblacks can come to learn and improve their skills.</p>
END:VEVENT
END:VCALENDAR
