BEGIN:VCALENDAR
VERSION:2.0
CALSCALE:GREGORIAN
PRODID:adamgibbons/ics
METHOD:PUBLISH
X-PUBLISHED-TTL:PT1H
BEGIN:VEVENT
UID:48@bootblack.events
SUMMARY:Kinky Talks: Bootblacking - What is it about?
DTSTAMP:20260424T181134Z
DTSTART:20241211T190000Z
DESCRIPTION:In the general kink-scene\, people are not really aware of boot
	blacking and what\nit means to people.\nSo let’s talk about Bootblacking\,
	 their role in the leather and fetish\ncommunity\, about gear care\, about
	 bootblacks titles\, and where to place it in\nBDSM-context. So join us to
	 learn the best tips to take care of your gear!\n\n> What does bootblackin
	g mean to bootblacks?\n\nWe hear all about this from Karlheinz and friends
	\n[https://www.instagram.com/kallebootblack/]. Everything and more…\nand w
	e’ll be able to ask any remaining questions and discuss our thoughts after
	\ntheir exploration.
URL:https://bootblack.events/event/kinky-talks-bootblacking-what-is-it-abou
	t
LOCATION:online - https://hetruigerewerk.wordpress.com/portfolio/2024-12-11
	-kinky-talks-55-bootblacking-what-is-it-about/
STATUS:CONFIRMED
CATEGORIES:Online,Talk
X-ALT-DESC;FMTTYPE=text/html:<p>In the general kink-scene, people are not r
	eally aware of bootblacking and what it means to people.<br>So let’s talk 
	about Bootblacking, their role in the leather and fetish community, about 
	gear care, about bootblacks titles, and where to place it in BDSM-context.
	 So join us to learn the best tips to take care of your gear!</p><blockquo
	te><p>What does bootblacking mean to bootblacks?</p></blockquote><p>We hea
	r all about this from <a target="_blank" href="https://www.instagram.com/k
	allebootblack/"><u>Karlheinz and friends</u></a>. Everything and more…<br>
	and we’ll be able to ask any remaining questions and discuss our thoughts 
	after their exploration.</p>
END:VEVENT
END:VCALENDAR
