BEGIN:VCALENDAR
VERSION:2.0
CALSCALE:GREGORIAN
PRODID:adamgibbons/ics
METHOD:PUBLISH
X-PUBLISHED-TTL:PT1H
BEGIN:VEVENT
UID:51@bootblack.events
SUMMARY:Bootblack Stand @Leather Social Utrecht
DTSTAMP:20260424T192433Z
DTSTART:20250125T130000Z
DESCRIPTION:Bootblack stand at the Leather Social Utrecht. More info about 
	the event:\nhttps://www.cuirmale.nl/leathersocialutrecht/\n[https://www.cu
	irmale.nl/leathersocialutrecht/]
URL:https://bootblack.events/event/bootblack-stand-leather-social-utrecht
GEO:52.0946162;5.1169088
LOCATION:Body Talk Utrecht - Oudegracht 64\, Utrecht
STATUS:CONFIRMED
CATEGORIES:Bootblack Stand,Netherlands,Utrecht
X-ALT-DESC;FMTTYPE=text/html:<p>Bootblack stand at the Leather Social Utrec
	ht. More info about the event: <a target="_blank" href="https://www.cuirma
	le.nl/leathersocialutrecht/">https://www.cuirmale.nl/leathersocialutrecht/
	</a></p>
END:VEVENT
END:VCALENDAR
