BEGIN:VCALENDAR
VERSION:2.0
CALSCALE:GREGORIAN
PRODID:adamgibbons/ics
METHOD:PUBLISH
X-PUBLISHED-TTL:PT1H
BEGIN:VEVENT
UID:113@bootblack.events
SUMMARY:Bootblacking @ Vienna Fetish Spring
DTSTAMP:20260424T191814Z
DTSTART:20250530T140000Z
DESCRIPTION:Bootblack Stand by Satyridium\, Bootblack Europe 2025\, at the 
	fetish flea market\nat Gayt Store.\n\nhttps://www.lmc-vienna.com/de/jahres
	plan\n[https://www.lmc-vienna.com/de/jahresplan]
URL:https://bootblack.events/event/bootblacking-vienna-fetish-spring
GEO:48.1898315;16.3525711
LOCATION:Gayt Store Vienna - Schönbrunner Straße 68 \, 1050 Margareten\, Au
	stria
STATUS:CONFIRMED
CATEGORIES:Austria,Bootblack Stand,Vienna
X-ALT-DESC;FMTTYPE=text/html:<p>Bootblack Stand by Satyridium, Bootblack Eu
	rope 2025, at the fetish flea market at Gayt Store. </p><p><a target="_bla
	nk" href="https://www.lmc-vienna.com/de/jahresplan">https://www.lmc-vienna
	.com/de/jahresplan</a></p>
END:VEVENT
END:VCALENDAR
